Workbook

Sheet Total for TA
A1: CR Beer Nuts Grain Order
A2: 42549
A4: Brand | B4: Malt Name (or other product) | C4: Cost per unit | D4: Quanity | E4: Total Cost | F4: Beer Nuts | G4: Eric Benda | H4: Cal Corrin | I4: Matt Franklin | J4: Mike Hora | K4: Josh Jensen | L4: Mark Jensen | M4: Kurt Kraus | N4: Clint Larrison | O4: Andrew Maixner | P4: Daryl McCall | Q4: Pat McCullough | R4: Pat McCusker | S4: Lee Paulsen | T4: Josh Peanasky | U4: Jason Potratz | V4: Nick Scherbaum | W4: Travis Spears | X4: Fred Spinner | Y4: Dan White | Z4: Chris Zubak
A5: Château | Castle | B5: Pale Ale | C5: =55*0.78 -> 42.9 | D5: =SUM(F5:BA5) -> 1 | E5: =C5*D5 -> 42.9 | R5: 1
A6: Château | Castle | B6: Pilsen 2RS | C6: =55*0.79 -> 43.45 | D6: =SUM(F6:BA6) -> 2 | E6: =C6*D6 -> 86.9 | R6: 1 | U6: 1
A7: Château | Castle | B7: Munich Light | C7: =55*0.79 -> 43.45 | D7: =SUM(F7:BA7) -> 1 | E7: =C7*D7 -> 43.45 | R7: 1
A8: Crisp | B8: Finest Maris Otter | C8: =55*0.84 -> 46.2 | D8: =SUM(F8:BA8) -> 7 | E8: =C8*D8 -> 323.4 | G8: 2 | K8: 2 | N8: 1 | P8: 1 | X8: 1
A9: Crisp | B9: Crystal 60L | C9: =55*0.86 -> 47.3 | D9: =SUM(F9:BA9) -> 1 | E9: =C9*D9 -> 47.3 | M9: 1
A10: Patagonia | B10: Caramel 35L | C10: =55*0.85 -> 46.75 | D10: =SUM(F10:BA10) -> 1 | E10: =C10*D10 -> 46.75 | W10: 1
A11: Rahr | B11: Premium Pilsner | C11: =50*0.63 -> 31.5 | D11: =SUM(F11:BA11) -> 2 | E11: =C11*D11 -> 63 | K11: 1 | L11: 1
A12: Rahr | B12: Standard 2-row | C12: =50*0.58 -> 29 | D12: =SUM(F12:BA12) -> 18 | E12: =C12*D12 -> 522 | F12: 1 | H12: 1 | I12: 1 | J12: 1 | K12: 2 | L12: 2 | O12: 1 | Q12: 1 | S12: 1 | V12: 3 | W12: 2 | Y12: 1 | Z12: 1
A13: Rahr | B13: Pale Ale | C13: =50*0.63 -> 31.5 | D13: =SUM(F13:BA13) -> 3 | E13: =C13*D13 -> 94.5 | H13: 1 | K13: 1 | W13: 1
A14: Rahr | B14: White Wheat (malted) | C14: =50*0.64 -> 32 | D14: =SUM(F14:BA14) -> 3 | E14: =C14*D14 -> 96 | G14: 1 | M14: 1 | O14: 1
A15: Schill Malz | B15: Pilsen Malt | C15: =55*0.71 -> 39.05 | D15: =SUM(F15:BA15) -> 1 | E15: =C15*D15 -> 39.05 | Q15: 1
A16: Schill Malz | B16: Vienna Malt | C16: =55*0.71 -> 39.05 | D16: =SUM(F16:BA16) -> 1 | E16: =C16*D16 -> 39.05 | P16: 1
A17: Simpsons | B17: Maris Otter | C17: =55*0.85 -> 46.75 | D17: =SUM(F17:BA17) -> 7 | E17: =C17*D17 -> 327.25 | M17: 1 | O17: 1 | Q17: 1 | U17: 1 | W17: 1 | Z17: 2
A18: Simpsons | B18: Best Pale Ale | C18: =55*0.82 -> 45.1 | D18: =SUM(F18:BA18) -> 1 | E18: =C18*D18 -> 45.1 | U18: 1
A19: Weyermann | B19: Pale Ale | C19: =55*0.74 -> 40.7 | D19: =SUM(F19:BA19) -> 2 | E19: =C19*D19 -> 81.4 | M19: 2
A20: Weyermann | B20: Pilsner | C20: =55*0.74 -> 40.7 | D20: =SUM(F20:BA20) -> 3 | E20: =C20*D20 -> 122.1 | M20: 1 | W20: 1 | X20: 1
A21: Weyermann | B21: F/M Bohemian Pilsner | C21: =55*0.83 -> 45.65 | D21: =SUM(F21:BA21) -> 1 | E21: =C21*D21 -> 45.65 | S21: 1
A22: Weyermann | B22: Barke Pilsner | C22: =55*0.75 -> 41.25 | D22: =SUM(F22:BA22) -> 3 | E22: =C22*D22 -> 123.75 | G22: 2 | I22: 1
A23: Weyermann | B23: Vienna | C23: =55*0.74 -> 40.7 | D23: =SUM(F23:BA23) -> 2 | E23: =C23*D23 -> 81.4 | R23: 1 | T23: 1
A24: Weyermann | B24: Munich Lt Type 1 | C24: =55*0.74 -> 40.7 | D24: =SUM(F24:BA24) -> 1 | E24: =C24*D24 -> 40.7 | J24: 1
A25: Weyermann | B25: Munich Dk Type 2 | C25: =55*0.74 -> 40.7 | D25: =SUM(F25:BA25) -> 1 | E25: =C25*D25 -> 40.7 | Y25: 1
A26: Weyermann | B26: Carafoam | C26: =0.82*55 -> 45.1 | D26: =SUM(F26:BA26) -> 1 | E26: =C26*D26 -> 45.1 | M26: 1
A27: Oak Spirals | B27: Spirals,FrO,Med,1.5x9 in,60 gal | C27: =95.42 -> 95.42 | D27: =SUM(F27:BA27) -> 2 | E27: =C27*D27 -> 190.84 | R27: 2
A28: Cleaning Chemicals | B28: PBW, 50 lb. | C28: 134.95 | D28: =SUM(F28:BA28) -> 1 | E28: =C28*D28 -> 134.95 | O28: 1
A29: Finings | B29: Biofine Clear 1L | C29: 19.5 | D29: =SUM(F29:BA29) -> 1 | E29: =C29*D29 -> 19.5 | G29: 1
C31: Total | D31: =SUM(D5:D30) -> 67 | E31: =SUM(E5:E30) -> 2742.74 | F31: =SUM(F5:F30) -> 1 | G31: =SUM(G5:G30) -> 6 | H31: =SUM(H5:H30) -> 2 | I31: =SUM(I5:I30) -> 2 | J31: =SUM(J5:J30) -> 2 | K31: =SUM(K5:K30) -> 6 | ... Z31: =SUM(Z5:Z30) -> 3
C32: Shipping
C33: Tax
C34: TOTAL | E34: =SUM(E31:E33) -> 2742.74

Sheet Individual $
A1: ='Total for TA'!A1 -> CR Beer Nuts Grain Order
A2: ='Total for TA'!A2 -> 42549
A4: Brand | B4: Malt Name (or other product) | C4: Cost per Unit | D4: ='Total for TA'!F4 -> Beer Nuts | E4: ='Total for TA'!G4 -> Eric Benda | F4: ='Total for TA'!H4 -> Cal Corrin | G4: ='Total for TA'!I4 -> Matt Franklin | H4: ='Total for TA'!J4 -> Mike Hora | I4: ='Total for TA'!K4 -> Josh Jensen | J4: ='Total for TA'!L4 -> Mark Jensen | K4: ='Total for TA'!M4 -> Kurt Kraus | ... X4: ='Total for TA'!Z4 -> Chris Zubak
A5: ='Total for TA'!A5 -> Château | Castle | B5: ='Total for TA'!B5 -> Pale Ale | C5: ='Total for TA'!C5 -> 42.9 | D5: =$C5*'Total for TA'!F5 -> 0 | E5: =$C5*'Total for TA'!G5 -> 0 | F5: =$C5*'Total for TA'!H5 -> 0 | G5: =$C5*'Total for TA'!I5 -> 0 | H5: =$C5*'Total for TA'!J5 -> 0 | I5: =$C5*'Total for TA'!K5 -> 0 | J5: =$C5*'Total for TA'!L5 -> 0 | K5: =$C5*'Total for TA'!M5 -> 0 | ... X5: =$C5*'Total for TA'!Z5 -> 0
A6: ='Total for TA'!A6 -> Château | Castle | B6: ='Total for TA'!B6 -> Pilsen 2RS | C6: ='Total for TA'!C6 -> 43.45 | D6: =$C6*'Total for TA'!F6 -> 0 | E6: =$C6*'Total for TA'!G6 -> 0 | F6: =$C6*'Total for TA'!H6 -> 0 | G6: =$C6*'Total for TA'!I6 -> 0 | H6: =$C6*'Total for TA'!J6 -> 0 | I6: =$C6*'Total for TA'!K6 -> 0 | J6: =$C6*'Total for TA'!L6 -> 0 | K6: =$C6*'Total for TA'!M6 -> 0 | ... X6: =$C6*'Total for TA'!Z6 -> 0
A7: ='Total for TA'!A7 -> Château | Castle | B7: ='Total for TA'!B7 -> Munich Light | C7: ='Total for TA'!C7 -> 43.45 | D7: =$C7*'Total for TA'!F7 -> 0 | E7: =$C7*'Total for TA'!G7 -> 0 | F7: =$C7*'Total for TA'!H7 -> 0 | G7: =$C7*'Total for TA'!I7 -> 0 | H7: =$C7*'Total for TA'!J7 -> 0 | I7: =$C7*'Total for TA'!K7 -> 0 | J7: =$C7*'Total for TA'!L7 -> 0 | K7: =$C7*'Total for TA'!M7 -> 0 | ... X7: =$C7*'Total for TA'!Z7 -> 0
A8: ='Total for TA'!A8 -> Crisp | B8: ='Total for TA'!B8 -> Finest Maris Otter | C8: ='Total for TA'!C8 -> 46.2 | D8: =$C8*'Total for TA'!F8 -> 0 | E8: =$C8*'Total for TA'!G8 -> 92.4 | F8: =$C8*'Total for TA'!H8 -> 0 | G8: =$C8*'Total for TA'!I8 -> 0 | H8: =$C8*'Total for TA'!J8 -> 0 | I8: =$C8*'Total for TA'!K8 -> 92.4 | J8: =$C8*'Total for TA'!L8 -> 0 | K8: =$C8*'Total for TA'!M8 -> 0 | ... X8: =$C8*'Total for TA'!Z8 -> 0
A9: ='Total for TA'!A9 -> Crisp | B9: ='Total for TA'!B9 -> Crystal 60L | C9: ='Total for TA'!C9 -> 47.3 | D9: =$C9*'Total for TA'!F9 -> 0 | E9: =$C9*'Total for TA'!G9 -> 0 | F9: =$C9*'Total for TA'!H9 -> 0 | G9: =$C9*'Total for TA'!I9 -> 0 | H9: =$C9*'Total for TA'!J9 -> 0 | I9: =$C9*'Total for TA'!K9 -> 0 | J9: =$C9*'Total for TA'!L9 -> 0 | K9: =$C9*'Total for TA'!M9 -> 47.3 | ... X9: =$C9*'Total for TA'!Z9 -> 0
A10: ='Total for TA'!A10 -> Patagonia | B10: ='Total for TA'!B10 -> Caramel 35L | C10: ='Total for TA'!C10 -> 46.75 | D10: =$C10*'Total for TA'!F10 -> 0 | E10: =$C10*'Total for TA'!G10 -> 0 | F10: =$C10*'Total for TA'!H10 -> 0 | G10: =$C10*'Total for TA'!I10 -> 0 | H10: =$C10*'Total for TA'!J10 -> 0 | I10: =$C10*'Total for TA'!K10 -> 0 | J10: =$C10*'Total for TA'!L10 -> 0 | K10: =$C10*'Total for TA'!M10 -> 0 | ... X10: =$C10*'Total for TA'!Z10 -> 0
A11: ='Total for TA'!A11 -> Rahr | B11: ='Total for TA'!B11 -> Premium Pilsner | C11: ='Total for TA'!C11 -> 31.5 | D11: =$C11*'Total for TA'!F11 -> 0 | E11: =$C11*'Total for TA'!G11 -> 0 | F11: =$C11*'Total for TA'!H11 -> 0 | G11: =$C11*'Total for TA'!I11 -> 0 | H11: =$C11*'Total for TA'!J11 -> 0 | I11: =$C11*'Total for TA'!K11 -> 31.5 | J11: =$C11*'Total for TA'!L11 -> 31.5 | K11: =$C11*'Total for TA'!M11 -> 0 | ... X11: =$C11*'Total for TA'!Z11 -> 0
A12: ='Total for TA'!A12 -> Rahr | B12: ='Total for TA'!B12 -> Standard 2-row | C12: ='Total for TA'!C12 -> 29 | D12: =$C12*'Total for TA'!F12 -> 29 | E12: =$C12*'Total for TA'!G12 -> 0 | F12: =$C12*'Total for TA'!H12 -> 29 | G12: =$C12*'Total for TA'!I12 -> 29 | H12: =$C12*'Total for TA'!J12 -> 29 | I12: =$C12*'Total for TA'!K12 -> 58 | J12: =$C12*'Total for TA'!L12 -> 58 | K12: =$C12*'Total for TA'!M12 -> 0 | ... X12: =$C12*'Total for TA'!Z12 -> 29
A13: ='Total for TA'!A13 -> Rahr | B13: ='Total for TA'!B13 -> Pale Ale | C13: ='Total for TA'!C13 -> 31.5 | D13: =$C13*'Total for TA'!F13 -> 0 | E13: =$C13*'Total for TA'!G13 -> 0 | F13: =$C13*'Total for TA'!H13 -> 31.5 | G13: =$C13*'Total for TA'!I13 -> 0 | H13: =$C13*'Total for TA'!J13 -> 0 | I13: =$C13*'Total for TA'!K13 -> 31.5 | J13: =$C13*'Total for TA'!L13 -> 0 | K13: =$C13*'Total for TA'!M13 -> 0 | ... X13: =$C13*'Total for TA'!Z13 -> 0
A14: ='Total for TA'!A14 -> Rahr | B14: ='Total for TA'!B14 -> White Wheat (malted) | C14: ='Total for TA'!C14 -> 32 | D14: =$C14*'Total for TA'!F14 -> 0 | E14: =$C14*'Total for TA'!G14 -> 32 | F14: =$C14*'Total for TA'!H14 -> 0 | G14: =$C14*'Total for TA'!I14 -> 0 | H14: =$C14*'Total for TA'!J14 -> 0 | I14: =$C14*'Total for TA'!K14 -> 0 | J14: =$C14*'Total for TA'!L14 -> 0 | K14: =$C14*'Total for TA'!M14 -> 32 | ... X14: =$C14*'Total for TA'!Z14 -> 0
A15: ='Total for TA'!A15 -> Schill Malz | B15: ='Total for TA'!B15 -> Pilsen Malt | C15: ='Total for TA'!C15 -> 39.05 | D15: =$C15*'Total for TA'!F15 -> 0 | E15: =$C15*'Total for TA'!G15 -> 0 | F15: =$C15*'Total for TA'!H15 -> 0 | G15: =$C15*'Total for TA'!I15 -> 0 | H15: =$C15*'Total for TA'!J15 -> 0 | I15: =$C15*'Total for TA'!K15 -> 0 | J15: =$C15*'Total for TA'!L15 -> 0 | K15: =$C15*'Total for TA'!M15 -> 0 | ... X15: =$C15*'Total for TA'!Z15 -> 0
A16: ='Total for TA'!A16 -> Schill Malz | B16: ='Total for TA'!B16 -> Vienna Malt | C16: ='Total for TA'!C16 -> 39.05 | D16: =$C16*'Total for TA'!F16 -> 0 | E16: =$C16*'Total for TA'!G16 -> 0 | F16: =$C16*'Total for TA'!H16 -> 0 | G16: =$C16*'Total for TA'!I16 -> 0 | H16: =$C16*'Total for TA'!J16 -> 0 | I16: =$C16*'Total for TA'!K16 -> 0 | J16: =$C16*'Total for TA'!L16 -> 0 | K16: =$C16*'Total for TA'!M16 -> 0 | ... X16: =$C16*'Total for TA'!Z16 -> 0
... A29: ='Total for TA'!A29 -> Finings | B29: ='Total for TA'!B29 -> Biofine Clear 1L | C29: ='Total for TA'!C29 -> 19.5 | D29: =$C29*'Total for TA'!F29 -> 0 | E29: =$C29*'Total for TA'!G29 -> 19.5 | F29: =$C29*'Total for TA'!H29 -> 0 | G29: =$C29*'Total for TA'!I29 -> 0 | H29: =$C29*'Total for TA'!J29 -> 0 | I29: =$C29*'Total for TA'!K29 -> 0 | J29: =$C29*'Total for TA'!L29 -> 0 | K29: =$C29*'Total for TA'!M29 -> 0 | ... X29: =$C29*'Total for TA'!Z29 -> 0
A31: Beer Nuts | B31: Annual Membership Dues | C31: =SUM(E31:X31) -> 40 | T31: 20 | U31: 20
B33: Order Total | C33: =SUM(D33:AW33) -> 2782.74 | D33: =SUM(D5:D32) -> 29 | E33: =SUM(E5:E32) -> 226.4 | F33: =SUM(F5:F32) -> 60.5 | G33: =SUM(G5:G32) -> 70.25 | H33: =SUM(H5:H32) -> 69.7 | I33: =SUM(I5:I32) -> 213.4 | J33: =SUM(J5:J32) -> 89.5 | K33: =SUM(K5:K32) -> 293.25 | ... X33: =SUM(X5:X32) -> 122.5
B34: Shipping
B35: Tax
B36: TOTAL | C36: =SUM(C33:C35) -> 2782.74 | D36: =SUM(D33:D35) -> 29 | E36: =SUM(E33:E35) -> 226.4 | F36: =SUM(F33:F35) -> 60.5 | G36: =SUM(G33:G35) -> 70.25 | H36: =SUM(H33:H35) -> 69.7 | I36: =SUM(I33:I35) -> 213.4 | J36: =SUM(J33:J35) -> 89.5 | ... X36: =SUM(X33:X35) -> 122.5
